BEGIN:VCALENDAR
VERSION:2.0
PRODID:-//wp-events-plugin.com//5.7//EN
BEGIN:VEVENT
UID:77@snl.lu
DTSTART:20170714T070000Z
DTEND:20170714T150000Z
DTSTAMP:20170506T054515Z
URL:https://www.snl.lu/events/workshop-schutz-der-gefahrdeten-ackerflora-u
 nd-fauna/
SUMMARY:Workshop: Schutz der gefährdeten Ackerflora und -fauna
DESCRIPTION:Unsere Feldflora und -fauna hat in den letzten Jahrzehnten eine
 n dramatischen Verlust zu verzeichnen. Besteht hier doch dringender Handlu
 ngsbedarf\, weshalb im Workshop konkrete Artenschutzmaßnahmen vorgestellt
  werden. Kernthemen\, die behandelt werden: Wie ist die Situation des Lebe
 nsraumes Feldflur und was sind die Gründe für den Rückgang der Arten? W
 elche Möglichkeiten zur Erhaltung artenreicher Ackerlebensgemeinschaften 
 gibt es? [...]
LOCATION:Arca Bertrange\, Rue Atert\, Bartringen\, Luxemburg\, 17 Rue Atert
 \, Bertrange\, Luxembourg\, 8051\, Luxembourg
GEO:49.6091652;6.057539906915281
X-APPLE-STRUCTURED-LOCATION;VALUE=URI;X-ADDRESS=17 Rue Atert\, Bertrange\, 
 Luxembourg\, 8051\, Luxembourg;X-APPLE-RADIUS=100;X-TITLE=Arca Bertrange\,
  Rue Atert\, Bartringen\, Luxemburg:geo:49.6091652,6.057539906915281
END:VEVENT
END:VCALENDAR