BEGIN:VCALENDAR
VERSION:2.0
PRODID:-//wp-events-plugin.com//5.7//EN
BEGIN:VEVENT
UID:78@snl.lu
DTSTART:20170709T070000Z
DTEND:20170709T160000Z
DTSTAMP:20170509T192500Z
URL:https://www.snl.lu/events/juli-exkursion-feuchtgebiete-im-osling/
SUMMARY:Juli-Exkursion: Feuchtgebiete im Ösling
DESCRIPTION:Wir laden Sie herzlich zur diesjährigen Juli-Exkursion ein! Es
  geht in interessante Feuchtgebiete des Öslings&nbsp\; - mit Einblicken i
 n die Pflanzen- und Tierwelt sowie Pflege der Gebiete. → Einladung und P
 rogramm PDF [250 Kb] &nbsp\; Vormittag Sauerwisen bei Hosingen Eines der s
 chönsten Feuchtgebiete in Luxemburg\, das sehr seltene Biotoptypen wie Bo
 rstgrasrasen\, Pfeifengraswiesen\, magere Waldbinsenwiesen und [...]
CATEGORIES:Excursion
END:VEVENT
END:VCALENDAR