BEGIN:VCALENDAR
VERSION:2.0
PRODID:-//wp-events-plugin.com//5.7//EN
BEGIN:VEVENT
UID:72@snl.lu
DTSTART:20170517T160000Z
DTEND:20171004T180000Z
DTSTAMP:20170327T090843Z
URL:https://www.snl.lu/events/cours-mycologie-2017/
SUMMARY:Cours d’initiation à la mycologie
DESCRIPTION:Le Groupe de recherche mycologique de la SNL propose une format
 ion en six séances de deux heures pour apprendre à reconnaître les cham
 pignons les plus communs. Dates: 17.05.\, 31.05.\, 14.06.\, 28.06.\, 20.09
 . &amp\; 04.10.2017 → Détails et inscription (PDF)
LOCATION:Maison de la nature\, 5 route de Luxembourg\, Kockelscheuer\, 1899
 \, Luxembourg
GEO:49.5563296;6.106989800000065
X-APPLE-STRUCTURED-LOCATION;VALUE=URI;X-ADDRESS=5 route de Luxembourg\, Koc
 kelscheuer\, 1899\, Luxembourg;X-APPLE-RADIUS=100;X-TITLE=Maison de la nat
 ure:geo:49.5563296,6.106989800000065
END:VEVENT
END:VCALENDAR