BEGIN:VCALENDAR
VERSION:2.0
PRODID:-//wp-events-plugin.com//5.7//EN
BEGIN:VEVENT
UID:74@snl.lu
DTSTART:20170708T080000Z
DTEND:20170729T140000Z
DTSTAMP:20170421T075919Z
URL:https://www.snl.lu/events/cours-de-determination-de-papillons/
SUMMARY:Cours de détermination de papillons
DESCRIPTION:De SICONA\, d’SNL\, d’ABIOL an den natur musée invitéiere
 n Iech häerzlech op hier zwee Päiperleks-Bestëmmungscoursen: Fir Ufäng
 er: Päiperleke kenneléieren a bestëmmen Samschdeg\, den 8. Juli vun 10 
 bis 16 Auer Interesséiert Dir Iech fir Päiperleken? Wëllt Dir si méi g
 enee kenne léieren? Wësse wéi een di verschidden Aarte ënnerscheede ka
 nn a wou se liewen? Wann [...]
CATEGORIES:Cours / atelier
LOCATION:SICONA\, 12\, rue de Capellen\, Olm\, 8393\, Luxembourg
GEO:49.6554657;5.997875600000043
X-APPLE-STRUCTURED-LOCATION;VALUE=URI;X-ADDRESS=12\, rue de Capellen\, Olm\
 , 8393\, Luxembourg;X-APPLE-RADIUS=100;X-TITLE=SICONA:geo:49.6554657,5.997
 875600000043
END:VEVENT
END:VCALENDAR